BEGIN:VCALENDAR
VERSION:2.0
PRODID:-//wp-events-plugin.com//7.2.3.1//EN
TZID:Europe/Berlin
X-WR-TIMEZONE:Europe/Berlin
BEGIN:VEVENT
UID:190@naturschutzzentrum-mk.de
DTSTART;TZID=Europe/Berlin:20260509T060000
DTEND;TZID=Europe/Berlin:20260509T110000
DTSTAMP:20260227T135334Z
URL:https://naturschutzzentrum-mk.de/events/2026-28-vogelstimmenwanderung-
 mit-fruehstueck/
SUMMARY:2026-28 Vogelstimmenwanderung mit Frühstück
DESCRIPTION:Früh morgens um 06.00 Uhr geht`s los\, damit der Ornithologe I
 ngo Dreweck und Klaus Schulte vom Naturschutzzentrum MK e. V. Ihnen mögli
 chst viele der heimischen Gesangskünstler präsentieren können. Auf dem 
 ehemaligen Standortübungsplatz Hemer-Apricke haben sich aufgrund der exte
 nsiven landwirtschaftliche Nutzung zahlreiche Vogelarten angesiedelt\, die
  in anderen Regionen des Sauerlandes nicht mehr anzutreffen sind. Zu dem m
 ehrstündigen Spaziergang sollten Sie -  sofern vorhanden – auch ein Fe
 rnglas mitbringen. Im Anschluss fahren wir dann – wie gewohnt – zum Ho
 f Schulte-Horst in Balve-Eisborn. Dort werden noch einige Vogelarten der H
 öfe und Siedlungen vorgestellt\, anschließend gibt es das wohlverdiente 
 Frühstück dann rustikal in der Deele „unter Schwalbennestern“.
ATTACH;FMTTYPE=image/jpeg:https://naturschutzzentrum-mk.de/wp-content/uplo
 ads/2025/02/2025-17-Vogelstimmenwanderung-scaled.jpg
CATEGORIES:Erwachsene,Exkursion
LOCATION:Hemer\, Ort nach Anmeldung\, Hemer\, Deutschland
X-APPLE-STRUCTURED-LOCATION;VALUE=URI;X-ADDRESS=Ort nach Anmeldung\, Hemer\
 , Deutschland;X-APPLE-RADIUS=100;X-TITLE=Hemer:geo:0,0
END:VEVENT
BEGIN:VTIMEZONE
TZID:Europe/Berlin
X-LIC-LOCATION:Europe/Berlin
BEGIN:DAYLIGHT
DTSTART:20260329T030000
TZOFFSETFROM:+0100
TZOFFSETTO:+0200
TZNAME:CEST
END:DAYLIGHT
END:VTIMEZONE
END:VCALENDAR