BEGIN:VCALENDAR
VERSION:2.0
PRODID:-//wp-events-plugin.com//7.2.3.1//EN
TZID:Europe/Berlin
X-WR-TIMEZONE:Europe/Berlin
BEGIN:VEVENT
UID:120@naturschutzzentrum-mk.de
DTSTART;TZID=Europe/Berlin:20250313T180000
DTEND;TZID=Europe/Berlin:20250313T193000
DTSTAMP:20250311T123031Z
URL:https://naturschutzzentrum-mk.de/events/der-siebenpunktmarienkaefer-zw
 ischen-naturwissenschaft-kunst-und-kitsch/
SUMMARY:Der Siebenpunktmarienkäfer zwischen Naturwissenschaft\, Kunst und 
 Kitsch
DESCRIPTION:Diese Veranstaltung findet in Kooperation mit dem Bildungswerk 
 Zwillbrock statt.\n
CATEGORIES:Erwachsene,Familien,Kinder
LOCATION:Heimathaus Plettenberg\, Kirchplatz 8\, Plettenberg\, 58840\, Deut
 schland
X-APPLE-STRUCTURED-LOCATION;VALUE=URI;X-ADDRESS=Kirchplatz 8\, Plettenberg\
 , 58840\, Deutschland;X-APPLE-RADIUS=100;X-TITLE=Heimathaus Plettenberg:ge
 o:0,0
END:VEVENT
BEGIN:VTIMEZONE
TZID:Europe/Berlin
X-LIC-LOCATION:Europe/Berlin
BEGIN:STANDARD
DTSTART:20241027T020000
TZOFFSETFROM:+0200
TZOFFSETTO:+0100
TZNAME:CET
END:STANDARD
END:VTIMEZONE
END:VCALENDAR