BEGIN:VCALENDAR
VERSION:2.0
PRODID:-//wp-events-plugin.com//7.2.3.1//EN
TZID:Europe/Berlin
X-WR-TIMEZONE:Europe/Berlin
BEGIN:VEVENT
UID:141@naturschutzzentrum-mk.de
DTSTART;TZID=Europe/Berlin:20250613T180000
DTEND;TZID=Europe/Berlin:20250613T200000
DTSTAMP:20250612T092333Z
URL:https://naturschutzzentrum-mk.de/events/die-quappe-rueckkehr-einer-wen
 ig-bekannten-fischart/
SUMMARY:Die Quappe - Rückkehr einer wenig bekannten Fischart
DESCRIPTION:
CATEGORIES:Erwachsene,Vortrag
LOCATION:Naturschutzzentrum MK\, Oelken 79\, Lüdenscheid\, 58515\, Deutsch
 land
X-APPLE-STRUCTURED-LOCATION;VALUE=URI;X-ADDRESS=Oelken 79\, Lüdenscheid\, 
 58515\, Deutschland;X-APPLE-RADIUS=100;X-TITLE=Naturschutzzentrum MK:geo:0
 ,0
END:VEVENT
BEGIN:VTIMEZONE
TZID:Europe/Berlin
X-LIC-LOCATION:Europe/Berlin
BEGIN:DAYLIGHT
DTSTART:20250330T030000
TZOFFSETFROM:+0100
TZOFFSETTO:+0200
TZNAME:CEST
END:DAYLIGHT
END:VTIMEZONE
END:VCALENDAR