BEGIN:VCALENDAR
VERSION:2.0
PRODID:-//wp-events-plugin.com//7.2.3.1//EN
TZID:Europe/Berlin
X-WR-TIMEZONE:Europe/Berlin
BEGIN:VEVENT
UID:138@naturschutzzentrum-mk.de
DTSTART;TZID=Europe/Berlin:20250515T180000
DTEND;TZID=Europe/Berlin:20250515T200000
DTSTAMP:20250213T071205Z
URL:https://naturschutzzentrum-mk.de/events/fischereiliches-management-des
 -ruhrverbandes/
SUMMARY:Fischereiliches Management des Ruhrverbandes
DESCRIPTION:\n\n\nFische sind wichtige Organismen unserer aquatischen Ökos
 ysteme. Zur Sicherung und zum Erhalt lebensraumtypischer und artenreicher 
 Fisch­bestände in den acht Talsperren des Ruhrverbands werden diese nach
  gewässerökologischen und fischerei­biologischen Kriterien gehegt und b
 ewirtschaftet. Auch die Veränderungen des Lebens­raumes durch den Nährs
 toffrückgang und die Klimaerwärmung spielen eine Rolle.\n\nVortrag von M
 arkus Kühlmann\, Ruhrverband\n\n\n
CATEGORIES:Erwachsene,Familien,Vortrag
LOCATION:Naturschutzzentrum MK\, Oelken 79\, Lüdenscheid\, 58515\, Deutsch
 land
X-APPLE-STRUCTURED-LOCATION;VALUE=URI;X-ADDRESS=Oelken 79\, Lüdenscheid\, 
 58515\, Deutschland;X-APPLE-RADIUS=100;X-TITLE=Naturschutzzentrum MK:geo:0
 ,0
END:VEVENT
BEGIN:VTIMEZONE
TZID:Europe/Berlin
X-LIC-LOCATION:Europe/Berlin
BEGIN:DAYLIGHT
DTSTART:20250330T030000
TZOFFSETFROM:+0100
TZOFFSETTO:+0200
TZNAME:CEST
END:DAYLIGHT
END:VTIMEZONE
END:VCALENDAR