BEGIN:VCALENDAR
VERSION:2.0
PRODID:-//wp-events-plugin.com//7.2.3.1//EN
TZID:Europe/Berlin
X-WR-TIMEZONE:Europe/Berlin
BEGIN:VEVENT
UID:152@naturschutzzentrum-mk.de
DTSTART;TZID=Europe/Berlin:20250321T150000
DTEND;TZID=Europe/Berlin:20250322T150000
DTSTAMP:20250317T130358Z
URL:https://naturschutzzentrum-mk.de/events/gruenholzwerkstatt/
SUMMARY:Grünholzwerkstatt
DESCRIPTION:Aufgrund zu geringer Teilnehmendenzahl müssen wir die Grünhol
 zwerkstatt leider absagen.\n\nWir konnten Eva Nippel mit ihrer Grünholzwe
 rkstatt für einen Termin im März gewinnen. Wer mehr über ihre Arbeit er
 fahren möchte\, findet hier ihre Internetseite: Komorebi\n\n  
ATTACH;FMTTYPE=image/jpeg:https://naturschutzzentrum-mk.de/wp-content/uplo
 ads/2025/02/Gruenholzwerkstatt-1.png
CATEGORIES:Erwachsene,Familien,Kinder,Praxis
LOCATION:Naturschutzzentrum MK\, Oelken 79\, Lüdenscheid\, 58515\, Deutsch
 land
X-APPLE-STRUCTURED-LOCATION;VALUE=URI;X-ADDRESS=Oelken 79\, Lüdenscheid\, 
 58515\, Deutschland;X-APPLE-RADIUS=100;X-TITLE=Naturschutzzentrum MK:geo:0
 ,0
END:VEVENT
BEGIN:VTIMEZONE
TZID:Europe/Berlin
X-LIC-LOCATION:Europe/Berlin
BEGIN:STANDARD
DTSTART:20241027T020000
TZOFFSETFROM:+0200
TZOFFSETTO:+0100
TZNAME:CET
END:STANDARD
END:VTIMEZONE
END:VCALENDAR