BEGIN:VCALENDAR
VERSION:2.0
PRODID:-//wp-events-plugin.com//7.2.3.1//EN
TZID:Europe/Berlin
X-WR-TIMEZONE:Europe/Berlin
BEGIN:VEVENT
UID:130@naturschutzzentrum-mk.de
DTSTART;TZID=Europe/Berlin:20250227T153000
DTEND;TZID=Europe/Berlin:20250227T163000
DTSTAMP:20250212T104705Z
URL:https://naturschutzzentrum-mk.de/events/nature-journaling-sich-mit-der
 -natur-beschaeftigen-verbinden-und-entspannen/
SUMMARY:Nature Journaling - Sich mit der Natur beschäftigen\, verbinden un
 d entspannen
DESCRIPTION:Nature Journaling ist eine wunderbare Art sich mit der Natur zu
  beschäftigen und zu verbinden und gleichzeitig zu entspannen. Eigentlich
  ist es nichts anderes als Beobachtungen\, Erlebnisse und Gefühle in der 
 Natur in einem Tagebuch festzuhalten. Dabei ist alles erlaubt wonach einem
  gerade der Sinn steht: Skizzen\, Fotos\, Texte\, Zahlen\,...\nDurch das k
 onzentrierte Beobachten und fokussierte Arbeiten\, schaltet man ab und ent
 spannt sich. Man muss für Nature Journaling kein Künstler\, kein Naturex
 perte und kein Geschichtenschreiber sein. Einfach machen\, der Rest kommt 
 von allein.\nWir treffen uns zum gemeinsamen Nature Journaling\, weil\n- e
 s in der Gruppe viel mehr Spaß macht\n- wir es sonst doch nicht tun\n- vi
 ele Augen mehr entdecken\n- es immer etwas gibt\, was man sich abgucken ka
 nn\n- mehr Leute = mehr Ideen\n\nBeim ersten Treffen gibt es eine Einführ
 ung. Was ist Nature Journaling? Wie geht das? Wie komme ich ins Tun? Einig
 e Warm-up-Übungen\, um das Eis zu brechen.\nAchtung: Dies ist kein Malkur
 s\, in dem gezeigt wird\, wie Tiere und Pflanzen gemalt werden.\n\n27.02.2
 025\, 27.03.2025\, 22.05.2025\, 26.06.2025\, 24.07.2025\n\nDie Veranstaltu
 ng findet statt in Kooperation mit der VHS Lüdenscheid statt. Die Anmeldu
 ng erfolgt über die VHS Lüdenscheid:\nhttps://www.volkshochschule-lueden
 scheid.de/programm/mensch-gesellschaft/kurs/Nature-Journaling/25F-1601
ATTACH;FMTTYPE=image/jpeg:https://naturschutzzentrum-mk.de/wp-content/uplo
 ads/2025/02/Nature-Journaling-21.png
CATEGORIES:Erwachsene
LOCATION:Naturschutzzentrum MK\, Oelken 79\, Lüdenscheid\, 58515\, Deutsch
 land
X-APPLE-STRUCTURED-LOCATION;VALUE=URI;X-ADDRESS=Oelken 79\, Lüdenscheid\, 
 58515\, Deutschland;X-APPLE-RADIUS=100;X-TITLE=Naturschutzzentrum MK:geo:0
 ,0
END:VEVENT
BEGIN:VTIMEZONE
TZID:Europe/Berlin
X-LIC-LOCATION:Europe/Berlin
BEGIN:STANDARD
DTSTART:20241027T020000
TZOFFSETFROM:+0200
TZOFFSETTO:+0100
TZNAME:CET
END:STANDARD
END:VTIMEZONE
END:VCALENDAR